BEGIN:VCALENDAR
VERSION:2.0
PRODID:-//Orchestra of Everything - ECPv6.15.20//NONSGML v1.0//EN
CALSCALE:GREGORIAN
METHOD:PUBLISH
X-WR-CALNAME:Orchestra of Everything
X-ORIGINAL-URL:https://orchestraofeverything.co.uk
X-WR-CALDESC:Events for Orchestra of Everything
REFRESH-INTERVAL;VALUE=DURATION:PT1H
X-Robots-Tag:noindex
X-PUBLISHED-TTL:PT1H
BEGIN:VTIMEZONE
TZID:Europe/London
BEGIN:DAYLIGHT
TZOFFSETFROM:+0000
TZOFFSETTO:+0100
TZNAME:BST
DTSTART:20240331T010000
END:DAYLIGHT
BEGIN:STANDARD
TZOFFSETFROM:+0100
TZOFFSETTO:+0000
TZNAME:GMT
DTSTART:20241027T010000
END:STANDARD
BEGIN:DAYLIGHT
TZOFFSETFROM:+0000
TZOFFSETTO:+0100
TZNAME:BST
DTSTART:20250330T010000
END:DAYLIGHT
BEGIN:STANDARD
TZOFFSETFROM:+0100
TZOFFSETTO:+0000
TZNAME:GMT
DTSTART:20251026T010000
END:STANDARD
BEGIN:DAYLIGHT
TZOFFSETFROM:+0000
TZOFFSETTO:+0100
TZNAME:BST
DTSTART:20260329T010000
END:DAYLIGHT
BEGIN:STANDARD
TZOFFSETFROM:+0100
TZOFFSETTO:+0000
TZNAME:GMT
DTSTART:20261025T010000
END:STANDARD
END:VTIMEZONE
BEGIN:VEVENT
DTSTART;TZID=Europe/London:20250705T153000
DTEND;TZID=Europe/London:20250705T160000
DTSTAMP:20260421T002326
CREATED:20250605T162603Z
LAST-MODIFIED:20250616T183413Z
UID:895-1751729400-1751731200@orchestraofeverything.co.uk
SUMMARY:Youth Squad: Bath Boules
DESCRIPTION:Our Youth Squad will be taking to the stage in Queen Square as part of Bath Boules. With a repertoire chosen by the players\, the set will mash up pop\, rock\, classical and more!
URL:https://orchestraofeverything.co.uk/event/youth-squad-bath-boules/
LOCATION:Queen Square\, Bath\, Queen Square\, Bath\, BA1 2HA\, United Kingdom
END:VEVENT
BEGIN:VEVENT
DTSTART;TZID=Europe/London:20250705T163000
DTEND;TZID=Europe/London:20250705T173000
DTSTAMP:20260421T002326
CREATED:20250602T131422Z
LAST-MODIFIED:20250616T183440Z
UID:883-1751733000-1751736600@orchestraofeverything.co.uk
SUMMARY:Bath Boules
DESCRIPTION:We’re delighted to be part of this year’s Bath Boules event in Queen Square. We’ll be playing an al fresco set on the Saturday afternoon of this four-day petanque party. Entry to the square is free\, so you can wander in\, listen to some tunes and perhaps grab a drink and a bite to eat. \nCheck the Bath Boules website if you’d like to throw your beret into the ring and enter a team in this annual fundraising tournament.
URL:https://orchestraofeverything.co.uk/event/bath-boules/
LOCATION:Queen Square\, Bath\, Queen Square\, Bath\, BA1 2HA\, United Kingdom
END:VEVENT
BEGIN:VEVENT
DTSTART;TZID=Europe/London:20250713T120000
DTEND;TZID=Europe/London:20250713T170000
DTSTAMP:20260421T002326
CREATED:20250605T163548Z
LAST-MODIFIED:20250605T163548Z
UID:897-1752408000-1752426000@orchestraofeverything.co.uk
SUMMARY:Youth Squad: Youth Music Festival
DESCRIPTION:Our Youth Squad will be joining other talented young performers for an afternoon of al fresco music in Bath’s Alice Park. Hosted by Alice Park Café\, this free event will be a great showcase for local young musicians and dancers. \nThe event runs from midday until 5pm – Youth Squad’s performance time will be confirmed nearer the time.
URL:https://orchestraofeverything.co.uk/event/youth-squad-youth-music-festival/
LOCATION:Alice Park\, Bath\, Alice Park Café\, Bath\, BA1 7BL
END:VEVENT
END:VCALENDAR